BEGIN:VCALENDAR
VERSION:2.0
PRODID:-//92.205.248.210//NONSGML kigkonsult.se iCalcreator 2.20//
CALSCALE:GREGORIAN
METHOD:PUBLISH
X-WR-TIMEZONE:Europe/Berlin
BEGIN:VEVENT
UID:event754@JC-Container
DTSTAMP:20260421T112723Z
CATEGORIES:Geburtstage
DESCRIPTION:David W\nKategorie: Geburtstage\nICS-Link: https://www.jc-conta
 iner.de/container/index.php?option=com_jem&view=event&id=754:david-w\n
DTSTART;VALUE=DATE:20260421
DTEND;VALUE=DATE:20260422
SUMMARY:David W
URL:https://www.jc-container.de/container/index.php?option=com_jem&view=eve
 nt&id=754:david-w
END:VEVENT
END:VCALENDAR